BEGIN:VCALENDAR
VERSION:2.0
PRODID:-//Georgia Center For Opportunity - ECPv6.15.20//NONSGML v1.0//EN
CALSCALE:GREGORIAN
METHOD:PUBLISH
X-WR-CALNAME:Georgia Center For Opportunity
X-ORIGINAL-URL:https://foropportunity.org
X-WR-CALDESC:Events for Georgia Center For Opportunity
REFRESH-INTERVAL;VALUE=DURATION:PT1H
X-Robots-Tag:noindex
X-PUBLISHED-TTL:PT1H
BEGIN:VTIMEZONE
TZID:America/New_York
BEGIN:DAYLIGHT
TZOFFSETFROM:-0500
TZOFFSETTO:-0400
TZNAME:EDT
DTSTART:20230312T070000
END:DAYLIGHT
BEGIN:STANDARD
TZOFFSETFROM:-0400
TZOFFSETTO:-0500
TZNAME:EST
DTSTART:20231105T060000
END:STANDARD
BEGIN:DAYLIGHT
TZOFFSETFROM:-0500
TZOFFSETTO:-0400
TZNAME:EDT
DTSTART:20240310T070000
END:DAYLIGHT
BEGIN:STANDARD
TZOFFSETFROM:-0400
TZOFFSETTO:-0500
TZNAME:EST
DTSTART:20241103T060000
END:STANDARD
BEGIN:DAYLIGHT
TZOFFSETFROM:-0500
TZOFFSETTO:-0400
TZNAME:EDT
DTSTART:20250309T070000
END:DAYLIGHT
BEGIN:STANDARD
TZOFFSETFROM:-0400
TZOFFSETTO:-0500
TZNAME:EST
DTSTART:20251102T060000
END:STANDARD
END:VTIMEZONE
BEGIN:VEVENT
DTSTART;TZID=America/New_York:20240905T120000
DTEND;TZID=America/New_York:20240905T140000
DTSTAMP:20260424T171517
CREATED:20240717T163450Z
LAST-MODIFIED:20240717T163450Z
UID:19027-1725537600-1725544800@foropportunity.org
SUMMARY:Victory Mission Jobs for Life Open House
DESCRIPTION:Meet real people\, real employers\, and real resources who all want to see you succeed. If you are ready to work and willing to do what it takes\, this could get you in the door with a great company.
URL:https://foropportunity.org/event/victory-mission-jobs-for-life-open-house/
LOCATION:Victory Mission\, 3448 N Lumpkin Rd\, Columbus\, GA\, 31903
CATEGORIES:Better Work Columbus
ATTACH;FMTTYPE=image/png:https://foropportunity.org/wp-content/uploads/2024/01/Untitled-800-x-600-px-4.png
END:VEVENT
END:VCALENDAR