BEGIN:VCALENDAR
VERSION:2.0
PRODID:-//Georgia Center For Opportunity - ECPv6.15.20//NONSGML v1.0//EN
CALSCALE:GREGORIAN
METHOD:PUBLISH
X-ORIGINAL-URL:https://foropportunity.org
X-WR-CALDESC:Events for Georgia Center For Opportunity
REFRESH-INTERVAL;VALUE=DURATION:PT1H
X-Robots-Tag:noindex
X-PUBLISHED-TTL:PT1H
BEGIN:VTIMEZONE
TZID:America/New_York
BEGIN:DAYLIGHT
TZOFFSETFROM:-0500
TZOFFSETTO:-0400
TZNAME:EDT
DTSTART:20230312T070000
END:DAYLIGHT
BEGIN:STANDARD
TZOFFSETFROM:-0400
TZOFFSETTO:-0500
TZNAME:EST
DTSTART:20231105T060000
END:STANDARD
BEGIN:DAYLIGHT
TZOFFSETFROM:-0500
TZOFFSETTO:-0400
TZNAME:EDT
DTSTART:20240310T070000
END:DAYLIGHT
BEGIN:STANDARD
TZOFFSETFROM:-0400
TZOFFSETTO:-0500
TZNAME:EST
DTSTART:20241103T060000
END:STANDARD
BEGIN:DAYLIGHT
TZOFFSETFROM:-0500
TZOFFSETTO:-0400
TZNAME:EDT
DTSTART:20250309T070000
END:DAYLIGHT
BEGIN:STANDARD
TZOFFSETFROM:-0400
TZOFFSETTO:-0500
TZNAME:EST
DTSTART:20251102T060000
END:STANDARD
END:VTIMEZONE
BEGIN:VEVENT
DTSTART;TZID=America/New_York:20240309T090000
DTEND;TZID=America/New_York:20240309T130000
DTSTAMP:20260424T072547
CREATED:20240304T205900Z
LAST-MODIFIED:20240304T205900Z
UID:18612-1709974800-1709989200@foropportunity.org
SUMMARY:GCPS Spring into Health Fair
DESCRIPTION:Join our family team at the GCPS Spring into Health Fair\, hosted by the Office of Health and Social Services\, where the Family team will be setting up a booth! This festival is open to all Gwinnett Students and families\, offering a fantastic opportunity to enjoy\, connect\, and explore valuable resources in Gwinnett County. Don’t miss out on the fun and the chance to get connected!
URL:https://foropportunity.org/event/gcps-spring-into-health-fair/
LOCATION:Norcross High School Football Stadium\, 5300 Spalding Drive\, Norcross\, Georgia\, 30092
CATEGORIES:Better Work Gwinnett,Family
ATTACH;FMTTYPE=image/png:https://d1f2pmkajn85sd.cloudfront.net/wp-content/uploads/2024/03/Untitled-design-3-106.png
END:VEVENT
END:VCALENDAR