BEGIN:VCALENDAR
VERSION:2.0
PRODID:-//Georgia Center For Opportunity - ECPv6.15.20//NONSGML v1.0//EN
CALSCALE:GREGORIAN
METHOD:PUBLISH
X-WR-CALNAME:Georgia Center For Opportunity
X-ORIGINAL-URL:https://foropportunity.org
X-WR-CALDESC:Events for Georgia Center For Opportunity
REFRESH-INTERVAL;VALUE=DURATION:PT1H
X-Robots-Tag:noindex
X-PUBLISHED-TTL:PT1H
BEGIN:VTIMEZONE
TZID:America/New_York
BEGIN:DAYLIGHT
TZOFFSETFROM:-0500
TZOFFSETTO:-0400
TZNAME:EDT
DTSTART:20230312T070000
END:DAYLIGHT
BEGIN:STANDARD
TZOFFSETFROM:-0400
TZOFFSETTO:-0500
TZNAME:EST
DTSTART:20231105T060000
END:STANDARD
BEGIN:DAYLIGHT
TZOFFSETFROM:-0500
TZOFFSETTO:-0400
TZNAME:EDT
DTSTART:20240310T070000
END:DAYLIGHT
BEGIN:STANDARD
TZOFFSETFROM:-0400
TZOFFSETTO:-0500
TZNAME:EST
DTSTART:20241103T060000
END:STANDARD
BEGIN:DAYLIGHT
TZOFFSETFROM:-0500
TZOFFSETTO:-0400
TZNAME:EDT
DTSTART:20250309T070000
END:DAYLIGHT
BEGIN:STANDARD
TZOFFSETFROM:-0400
TZOFFSETTO:-0500
TZNAME:EST
DTSTART:20251102T060000
END:STANDARD
END:VTIMEZONE
BEGIN:VEVENT
DTSTART;TZID=America/New_York:20240306T103000
DTEND;TZID=America/New_York:20240306T123000
DTSTAMP:20260424T072251
CREATED:20240215T160520Z
LAST-MODIFIED:20240215T160520Z
UID:18517-1709721000-1709728200@foropportunity.org
SUMMARY:BETTER WORK Mentor Training
DESCRIPTION:Volunteers receive free training on how to build trustful relationships with Better Work clients. These steps help you as you guide others on their journey to achieve their goals.
URL:https://foropportunity.org/event/better-work-mentor-training-8/
LOCATION:Virtual
CATEGORIES:Better Work,Better Work Columbus
ATTACH;FMTTYPE=image/png:https://foropportunity.org/wp-content/uploads/2023/07/4-1.png
END:VEVENT
BEGIN:VEVENT
DTSTART;TZID=America/New_York:20240306T170000
DTEND;TZID=America/New_York:20240306T200000
DTSTAMP:20260424T072251
CREATED:20240215T160649Z
LAST-MODIFIED:20240215T160649Z
UID:18518-1709744400-1709755200@foropportunity.org
SUMMARY:Jobs for Life Open House
DESCRIPTION:Meet real people\, real employers\, and real resources who all want to see you succeed. If you are ready to work and willing to do what it takes\, this could get you in the door with a great company. \nText (762) 441-1294 for information
URL:https://foropportunity.org/event/jobs-for-life-open-house/
LOCATION:Victory Mission\, 3448 N Lumpkin Rd\, Columbus\, GA\, 31903
CATEGORIES:Better Work,Better Work Columbus
ATTACH;FMTTYPE=image/png:https://foropportunity.org/wp-content/uploads/2023/08/Jobs-for-life-.png
END:VEVENT
END:VCALENDAR