BEGIN:VCALENDAR
VERSION:2.0
PRODID:-//Georgia Center For Opportunity - ECPv6.15.20//NONSGML v1.0//EN
CALSCALE:GREGORIAN
METHOD:PUBLISH
X-WR-CALNAME:Georgia Center For Opportunity
X-ORIGINAL-URL:https://foropportunity.org
X-WR-CALDESC:Events for Georgia Center For Opportunity
REFRESH-INTERVAL;VALUE=DURATION:PT1H
X-Robots-Tag:noindex
X-PUBLISHED-TTL:PT1H
BEGIN:VTIMEZONE
TZID:America/New_York
BEGIN:DAYLIGHT
TZOFFSETFROM:-0500
TZOFFSETTO:-0400
TZNAME:EDT
DTSTART:20230312T070000
END:DAYLIGHT
BEGIN:STANDARD
TZOFFSETFROM:-0400
TZOFFSETTO:-0500
TZNAME:EST
DTSTART:20231105T060000
END:STANDARD
BEGIN:DAYLIGHT
TZOFFSETFROM:-0500
TZOFFSETTO:-0400
TZNAME:EDT
DTSTART:20240310T070000
END:DAYLIGHT
BEGIN:STANDARD
TZOFFSETFROM:-0400
TZOFFSETTO:-0500
TZNAME:EST
DTSTART:20241103T060000
END:STANDARD
BEGIN:DAYLIGHT
TZOFFSETFROM:-0500
TZOFFSETTO:-0400
TZNAME:EDT
DTSTART:20250309T070000
END:DAYLIGHT
BEGIN:STANDARD
TZOFFSETFROM:-0400
TZOFFSETTO:-0500
TZNAME:EST
DTSTART:20251102T060000
END:STANDARD
END:VTIMEZONE
BEGIN:VEVENT
DTSTART;TZID=America/New_York:20240302T100000
DTEND;TZID=America/New_York:20240302T130000
DTSTAMP:20260424T102320
CREATED:20240116T195410Z
LAST-MODIFIED:20240215T161409Z
UID:18406-1709373600-1709384400@foropportunity.org
SUMMARY:Impact 46 Resource Fair
DESCRIPTION:Discover your next career move amidst a sea of opportunities at our upcoming jobs resource fair—where talent meets opportunity! Join us and explore a myriad of career paths tailored just for you. Explore a wealth of resources beyond just job opportunities.
URL:https://foropportunity.org/event/impact-46-resource-fair/
LOCATION:TBD
CATEGORIES:Better Work,Better Work Gwinnett
ATTACH;FMTTYPE=image/png:https://foropportunity.org/wp-content/uploads/2023/08/Mentoring-Circle-.png
END:VEVENT
END:VCALENDAR