BEGIN:VCALENDAR
VERSION:2.0
PRODID:-//Georgia Center For Opportunity - ECPv6.15.20//NONSGML v1.0//EN
CALSCALE:GREGORIAN
METHOD:PUBLISH
X-WR-CALNAME:Georgia Center For Opportunity
X-ORIGINAL-URL:https://foropportunity.org
X-WR-CALDESC:Events for Georgia Center For Opportunity
REFRESH-INTERVAL;VALUE=DURATION:PT1H
X-Robots-Tag:noindex
X-PUBLISHED-TTL:PT1H
BEGIN:VTIMEZONE
TZID:America/New_York
BEGIN:DAYLIGHT
TZOFFSETFROM:-0500
TZOFFSETTO:-0400
TZNAME:EDT
DTSTART:20230312T070000
END:DAYLIGHT
BEGIN:STANDARD
TZOFFSETFROM:-0400
TZOFFSETTO:-0500
TZNAME:EST
DTSTART:20231105T060000
END:STANDARD
BEGIN:DAYLIGHT
TZOFFSETFROM:-0500
TZOFFSETTO:-0400
TZNAME:EDT
DTSTART:20240310T070000
END:DAYLIGHT
BEGIN:STANDARD
TZOFFSETFROM:-0400
TZOFFSETTO:-0500
TZNAME:EST
DTSTART:20241103T060000
END:STANDARD
BEGIN:DAYLIGHT
TZOFFSETFROM:-0500
TZOFFSETTO:-0400
TZNAME:EDT
DTSTART:20250309T070000
END:DAYLIGHT
BEGIN:STANDARD
TZOFFSETFROM:-0400
TZOFFSETTO:-0500
TZNAME:EST
DTSTART:20251102T060000
END:STANDARD
END:VTIMEZONE
BEGIN:VEVENT
DTSTART;TZID=America/New_York:20240222T103000
DTEND;TZID=America/New_York:20240222T123000
DTSTAMP:20260424T115729
CREATED:20240215T160256Z
LAST-MODIFIED:20240215T160256Z
UID:18515-1708597800-1708605000@foropportunity.org
SUMMARY:Goal Setting Workshop
DESCRIPTION:The workshop will be led by one of our BETTER WORK mentors\, Rachel Schmidt\, Executive Director at Target Language. You will learn methods for setting priorities and organizing your time to achieve the results you want. \nEmail Kristinb@foropportunity.org for information or to register 
URL:https://foropportunity.org/event/goal-setting-workshop/
LOCATION:Target Language\, 2043 Wynnton Rd\,\, Columbus\, Georgia\, 31906
CATEGORIES:Better Work,Better Work Columbus
ATTACH;FMTTYPE=image/jpeg:https://foropportunity.org/wp-content/uploads/2020/01/shutterstock_387029653-scaled.jpg
END:VEVENT
END:VCALENDAR