BEGIN:VCALENDAR
VERSION:2.0
PRODID:-//Georgia Center For Opportunity - ECPv6.15.20//NONSGML v1.0//EN
CALSCALE:GREGORIAN
METHOD:PUBLISH
X-WR-CALNAME:Georgia Center For Opportunity
X-ORIGINAL-URL:https://foropportunity.org
X-WR-CALDESC:Events for Georgia Center For Opportunity
REFRESH-INTERVAL;VALUE=DURATION:PT1H
X-Robots-Tag:noindex
X-PUBLISHED-TTL:PT1H
BEGIN:VTIMEZONE
TZID:America/New_York
BEGIN:DAYLIGHT
TZOFFSETFROM:-0500
TZOFFSETTO:-0400
TZNAME:EDT
DTSTART:20230312T070000
END:DAYLIGHT
BEGIN:STANDARD
TZOFFSETFROM:-0400
TZOFFSETTO:-0500
TZNAME:EST
DTSTART:20231105T060000
END:STANDARD
BEGIN:DAYLIGHT
TZOFFSETFROM:-0500
TZOFFSETTO:-0400
TZNAME:EDT
DTSTART:20240310T070000
END:DAYLIGHT
BEGIN:STANDARD
TZOFFSETFROM:-0400
TZOFFSETTO:-0500
TZNAME:EST
DTSTART:20241103T060000
END:STANDARD
BEGIN:DAYLIGHT
TZOFFSETFROM:-0500
TZOFFSETTO:-0400
TZNAME:EDT
DTSTART:20250309T070000
END:DAYLIGHT
BEGIN:STANDARD
TZOFFSETFROM:-0400
TZOFFSETTO:-0500
TZNAME:EST
DTSTART:20251102T060000
END:STANDARD
END:VTIMEZONE
BEGIN:VEVENT
DTSTART;TZID=America/New_York:20240115T090000
DTEND;TZID=America/New_York:20240115T130000
DTSTAMP:20260424T102307
CREATED:20231129T201643Z
LAST-MODIFIED:20231129T201643Z
UID:18255-1705309200-1705323600@foropportunity.org
SUMMARY:One Stop Norcross Job Event
DESCRIPTION:Find meaningful work by connecting with local job opportunities\, training\, support services\, and valuable resources.
URL:https://foropportunity.org/event/one-stop-norcross-job-event-5/
LOCATION:OneStop Norcross\, 5030 Georgia Belle Ct.\, Norcross\, GA\, 30093
CATEGORIES:Better Work,Better Work Gwinnett
ATTACH;FMTTYPE=image/png:https://foropportunity.org/wp-content/uploads/2023/08/Untitled-design-3-83.png
END:VEVENT
BEGIN:VEVENT
DTSTART;TZID=America/New_York:20240120T100000
DTEND;TZID=America/New_York:20240120T130000
DTSTAMP:20260424T102307
CREATED:20240116T195157Z
LAST-MODIFIED:20240116T195157Z
UID:18403-1705744800-1705755600@foropportunity.org
SUMMARY:Gwinnett Housing Corporation Event
DESCRIPTION:Learn more about the various organizations in the community that may be able to assist in housing.
URL:https://foropportunity.org/event/gwinnett-housing-corporation-event-2/
LOCATION:Aurora Theater\, 128 East Pike Street\, Lawrenceville\, Georgia\, 30046
CATEGORIES:Better Work,Better Work Gwinnett
ATTACH;FMTTYPE=image/png:https://foropportunity.org/wp-content/uploads/2024/01/Untitled-design-3-104.png
END:VEVENT
BEGIN:VEVENT
DTSTART;TZID=America/New_York:20240124T110000
DTEND;TZID=America/New_York:20240124T130000
DTSTAMP:20260424T102307
CREATED:20240116T195832Z
LAST-MODIFIED:20240116T195832Z
UID:18410-1706094000-1706101200@foropportunity.org
SUMMARY:BETTER WORK Mentor Training
DESCRIPTION:Mentors receive free training on how to build trustful relationships with those you work with. These steps help you as you guide others on their journey to achieve their goals.
URL:https://foropportunity.org/event/better-work-mentor-training-7/
LOCATION:Virtual
CATEGORIES:Better Work,Better Work Columbus
ATTACH;FMTTYPE=image/png:https://foropportunity.org/wp-content/uploads/2023/07/4-1.png
END:VEVENT
BEGIN:VEVENT
DTSTART;TZID=America/New_York:20240126T100000
DTEND;TZID=America/New_York:20240126T120000
DTSTAMP:20260424T102307
CREATED:20240116T193843Z
LAST-MODIFIED:20240116T193843Z
UID:18399-1706263200-1706270400@foropportunity.org
SUMMARY:Neighborhood Co-Op Job Event
DESCRIPTION:Find meaningful work by connecting with local job opportunities\, training\, support services\, and valuable resources.
URL:https://foropportunity.org/event/neighborhood-co-op-job-event-7/
LOCATION:Neighborhood Coop\, 500 Pinnacle Court\, Suite 510\, Norcross\, GA
CATEGORIES:Better Work,Better Work Gwinnett
ATTACH;FMTTYPE=image/png:https://foropportunity.org/wp-content/uploads/2023/08/Untitled-design-3-83.png
END:VEVENT
BEGIN:VEVENT
DTSTART;TZID=America/New_York:20240130T100000
DTEND;TZID=America/New_York:20240130T113000
DTSTAMP:20260424T102307
CREATED:20240116T200103Z
LAST-MODIFIED:20240116T200103Z
UID:18411-1706608800-1706614200@foropportunity.org
SUMMARY:Columbus Empowerment Network (CEN)
DESCRIPTION:Do you live in Columbus and feel strongly about addressing crime in your neighborhood? Please join us for an open discussion and workshop about Columbus’ crime. Let’s solve our community’s problems together. We can’t fully understand where work is needed without hearing from the citizens experiencing it firsthand.
URL:https://foropportunity.org/event/columbus-empowerment-network-cen/
LOCATION:Columbus Public Library-Auditorium\, 3000 Macon Rd.\, Columbus\, Georgia\, 31906
CATEGORIES:Better Work,Better Work Columbus
ATTACH;FMTTYPE=image/png:https://foropportunity.org/wp-content/uploads/2024/01/Untitled-800-x-600-px-5.png
END:VEVENT
END:VCALENDAR